BEGIN:VCALENDAR
VERSION:2.0
PRODID:gruene-werneck.de
METHOD:PUBLISH
BEGIN:VTIMEZONE
TZID:Europe/Berlin
X-LIC-LOCATION:Europe/Berlin
BEGIN:DAYLIGHT
TZOFFSETFROM:+0100
TZOFFSETTO:+0200
TZNAME:CEST
DTSTART:19700329T020000
RRULE:FREQ=YEARLY;INTERVAL=1;BYDAY=-1SU;BYMONTH=3
END:DAYLIGHT
BEGIN:STANDARD
TZOFFSETFROM:+0200
TZOFFSETTO:+0100
TZNAME:CET
DTSTART:19701025T030000
RRULE:FREQ=YEARLY;INTERVAL=1;BYDAY=-1SU;BYMONTH=10
END:STANDARD
END:VTIMEZONE
BEGIN:VEVENT
UID:92e01c1d8c902898a6e045b24c7c6087@gruene-werneck.de
URL;VALUE=URI:https://gruene-werneck.de/termine/ramadama-2025/
LOCATION:Balthasar-Neumann-Platz, Werneck
SUMMARY:RAMADAMA 2025
DESCRIPTION;ALTREP="data:text/html,%0A%3Cp%3EEin%20sauberer%20Ort%20und%2
 0eine%20gepflegte%20Umwelt%20in%20Werneck%20liegen%20vielen%20B%C3%BCrger
 innen%20und%20B%C3%BCrgern%20am%20Herzen%20und%20sind%20ein%20wichtiges%2
 0St%C3%BCck%20Lebensqualit%C3%A4t.%20%3C%2Fp%3E%0A%0A%0A%0A%3Cp%3EHerzlic
 he%20Einladung%20an%20alle%20B%C3%BCrgerinnen%20und%20B%C3%BCrger%20zur%2
 0M%C3%BCllsammelaktion%20in%20Werneck%20am%20Samstag%2C%2008.03.%20ab%201
 3%20Uhr.%20Treffpunkt%20ist%20der%20Balthasar-Neumann-Platz.%3C%2Fp%3E%0A
 %0A%0A%0A%3Cp%3EIn%20Gr%C3%BCppchen%20schw%C3%A4rmen%20Jung%20und%20Alt%2
 0wieder%20aus%20an%20die%20Stellen%2C%20die%20von%20Schmutz%20und%20Abfal
 l%20befreit%20werden%20m%C3%BCssen.%20Eimer%2C%20Handschuhe%20und%20Greif
 zangen%20bitte%20nicht%20vergessen%20-%20um%20Tonnen%20und%20S%C3%A4cke%2
 0wird%20sich%20gek%C3%BCmmert.%3C%2Fp%3E%0A%0A%0A%0A%3Cp%3EEine%20Initiat
 ive%20der%20Wernecker%20Vereine.%3C%2Fp%3E%0A%0A%0A%0A%3Cp%3E%3C%2Fp%3E%0
 A":Ein sauberer Ort und eine gepflegte Umwelt in Werneck liegen vielen B
 ürgerinnen und Bürgern am Herzen und sind ein wichtiges Stück Lebensqu
 alität.\n\nHerzliche Einladung an alle Bürgerinnen und Bürger zur Mül
 lsammelaktion in Werneck am Samstag\, 08.03. ab 13 Uhr. Treffpunkt ist de
 r Balthasar-Neumann-Platz.\n\nIn Grüppchen schwärmen Jung und Alt wiede
 r aus an die Stellen\, die von Schmutz und Abfall befreit werden müssen.
  Eimer\, Handschuhe und Greifzangen bitte nicht vergessen - um Tonnen und
  Säcke wird sich gekümmert.\n\nEine Initiative der Wernecker Vereine.
CLASS:PUBLIC
DTSTART;TZID=Europe/Berlin:20250308T130000
DTEND;TZID=Europe/Berlin:20250308T150000
DTSTAMP:20260420T092437
END:VEVENT
END:VCALENDAR