BEGIN:VCALENDAR
VERSION:2.0
PRODID:gruene-werneck.de
METHOD:PUBLISH
BEGIN:VTIMEZONE
TZID:Europe/Berlin
X-LIC-LOCATION:Europe/Berlin
BEGIN:DAYLIGHT
TZOFFSETFROM:+0100
TZOFFSETTO:+0200
TZNAME:CEST
DTSTART:19700329T020000
RRULE:FREQ=YEARLY;INTERVAL=1;BYDAY=-1SU;BYMONTH=3
END:DAYLIGHT
BEGIN:STANDARD
TZOFFSETFROM:+0200
TZOFFSETTO:+0100
TZNAME:CET
DTSTART:19701025T030000
RRULE:FREQ=YEARLY;INTERVAL=1;BYDAY=-1SU;BYMONTH=10
END:STANDARD
END:VTIMEZONE
BEGIN:VEVENT
UID:624d7e978952be03cbfdee5005c5a116@gruene-werneck.de
URL;VALUE=URI:https://gruene-werneck.de/termine/gruenes-treffen-september
 -2025/
LOCATION:Scheune, Julius-Echter-Straße 1, Werneck
SUMMARY:Aufstellungsversammlung zur Marktgemeinderatswahl 2026
DESCRIPTION;ALTREP="data:text/html,%0A%3Cp%3EDer%20Gr%C3%BCne%20Ortsverba
 nd%20Werneck%20l%C3%A4dt%20alle%20Mitglieder%20und%20interessierten%20Mit
 b%C3%BCrger%2Ainnen%20herzlich%20zu%20unserer%20Aufstellungsversammlung%2
 0zur%20Marktgemeinderatswahl%202026%20ein.%3C%2Fp%3E%0A%0A%0A%0A%3Cp%3E%3
 C%2Fp%3E%0A":Der Grüne Ortsverband Werneck lädt alle Mitglieder und int
 eressierten Mitbürger*innen herzlich zu unserer Aufstellungsversammlung 
 zur Marktgemeinderatswahl 2026 ein.
CLASS:PUBLIC
DTSTART;TZID=Europe/Berlin:20250926T190000
DTEND;TZID=Europe/Berlin:20250926T210000
DTSTAMP:20260419T144651
END:VEVENT
END:VCALENDAR