BEGIN:VCALENDAR
VERSION:2.0
PRODID:gruene-werneck.de
METHOD:PUBLISH
BEGIN:VTIMEZONE
TZID:Europe/Berlin
X-LIC-LOCATION:Europe/Berlin
BEGIN:DAYLIGHT
TZOFFSETFROM:+0100
TZOFFSETTO:+0200
TZNAME:CEST
DTSTART:19700329T020000
RRULE:FREQ=YEARLY;INTERVAL=1;BYDAY=-1SU;BYMONTH=3
END:DAYLIGHT
BEGIN:STANDARD
TZOFFSETFROM:+0200
TZOFFSETTO:+0100
TZNAME:CET
DTSTART:19701025T030000
RRULE:FREQ=YEARLY;INTERVAL=1;BYDAY=-1SU;BYMONTH=10
END:STANDARD
END:VTIMEZONE
BEGIN:VEVENT
UID:ec0690099ab5099fede3e618d740828d@gruene-werneck.de
URL;VALUE=URI:https://gruene-werneck.de/termine/gruene-jahresabschlusswan
 derung-november-2026/
LOCATION:Bistro im Weltkind Unverpacktladen, Julius-Echter-Straße 11, We
 rneck
SUMMARY:Grüne Jahresabschlusswanderung – November 2026
DESCRIPTION;ALTREP="data:text/html,%0A%3Cp%3ETraditionelle%20Jahresabschl
 usswanderung%20des%20Gr%C3%BCnen%20Ortsverband%20Werneck%20auf%20ausschli
 e%C3%9Flich%20oder%20zumindest%20vorwiegend%20befestigten%20Wegen.%20Im%2
 0Anschluss%20lassen%20wir%20den%20Abend%20im%20Weltkind%20Bistro%20auskli
 ngen.%3C%2Fp%3E%0A%0A%0A%0A%3Cp%3E%3C%2Fp%3E%0A":Traditionelle Jahresabsc
 hlusswanderung des Grünen Ortsverband Werneck auf ausschließlich oder z
 umindest vorwiegend befestigten Wegen. Im Anschluss lassen wir den Abend 
 im Weltkind Bistro ausklingen.
CLASS:PUBLIC
DTSTART;TZID=Europe/Berlin:20261127T170000
DTEND;TZID=Europe/Berlin:20261127T210000
DTSTAMP:20260421T175821
END:VEVENT
END:VCALENDAR