BEGIN:VCALENDAR
VERSION:2.0
PRODID:gruene-werneck.de
METHOD:PUBLISH
BEGIN:VTIMEZONE
TZID:Europe/Berlin
X-LIC-LOCATION:Europe/Berlin
BEGIN:DAYLIGHT
TZOFFSETFROM:+0100
TZOFFSETTO:+0200
TZNAME:CEST
DTSTART:19700329T020000
RRULE:FREQ=YEARLY;INTERVAL=1;BYDAY=-1SU;BYMONTH=3
END:DAYLIGHT
BEGIN:STANDARD
TZOFFSETFROM:+0200
TZOFFSETTO:+0100
TZNAME:CET
DTSTART:19701025T030000
RRULE:FREQ=YEARLY;INTERVAL=1;BYDAY=-1SU;BYMONTH=10
END:STANDARD
END:VTIMEZONE
BEGIN:VEVENT
UID:6f893ad4558d11ba57e41b76389ce29c@gruene-werneck.de
URL;VALUE=URI:https://gruene-werneck.de/termine/die-gruene-bank-fuer-ettl
 eben/
LOCATION:Die GRÜNE Bank, Ettleben
SUMMARY:Die GRÜNE BANK für Ettleben
DESCRIPTION;ALTREP="data:text/html,B%C3%BCrgermeisterkandidat%20Johannes%
 20Wei%C3%9F%20%28GR%C3%9CNE%29%20stellt%20sich%20und%20seine%20Ideen%20im
 %20Rahmen%20der%20Vorstellungstour%20%E2%80%9EDie%20Gr%C3%BCne%20Bank%E2%
 80%9C%20in%20allen%2013%20Ortsteilen%20vor.%20Gemeinsam%20mit%20Kandidati
 nnen%20und%20Kandidaten%20der%20Marktgemeinderatsliste%20steht%20Johannes
 %20Wei%C3%9F%20f%C3%BCr%20Fragen%20und%20Anregungen%20bereit.%20Die%20son
 nt%C3%A4glichen%20Veranstaltungen%20finden%20im%20Freien%20neben%20%C3%B6
 ffentlichen%20Sitzb%C3%A4nken%20statt.%20F%C3%BCr%20warme%20Getr%C3%A4nke
 %20ist%20gesorgt%20-%20bitte%20Tassen%20selbst%20mitbringen.%20Herzliche%
 20Einladung%20an%20Alle.%0D%0A%0D%0ATreffpunkt%20Ettleben%3A%0D%0ASonntag
 %2C%2016.%20Februar%2C%2013%20Uhr%2C%20Sitzbank%20beim%20Dorfbrunnen%2FKi
 rche.":Bürgermeisterkandidat Johannes Weiß (GRÜNE) stellt sich und sei
 ne Ideen im Rahmen der Vorstellungstour „Die Grüne Bank“ in allen 13
  Ortsteilen vor. Gemeinsam mit Kandidatinnen und Kandidaten der Marktgeme
 inderatsliste steht Johannes Weiß für Fragen und Anregungen bereit. Die
  sonntäglichen Veranstaltungen finden im Freien neben öffentlichen Sitz
 bänken statt. Für warme Getränke ist gesorgt - bitte Tassen selbst mit
 bringen. Herzliche Einladung an Alle.\n\nTreffpunkt Ettleben:\n\nSonntag\
 , 16. Februar\, 13 Uhr\, Sitzbank beim Dorfbrunnen/Kirche.
CLASS:PUBLIC
DTSTART;TZID=Europe/Berlin:20200216T130000
DTEND;TZID=Europe/Berlin:20200216T143000
DTSTAMP:20260419T174527
END:VEVENT
END:VCALENDAR