BEGIN:VCALENDAR
VERSION:2.0
PRODID:gruene-werneck.de
METHOD:PUBLISH
BEGIN:VTIMEZONE
TZID:Europe/Berlin
X-LIC-LOCATION:Europe/Berlin
BEGIN:DAYLIGHT
TZOFFSETFROM:+0100
TZOFFSETTO:+0200
TZNAME:CEST
DTSTART:19700329T020000
RRULE:FREQ=YEARLY;INTERVAL=1;BYDAY=-1SU;BYMONTH=3
END:DAYLIGHT
BEGIN:STANDARD
TZOFFSETFROM:+0200
TZOFFSETTO:+0100
TZNAME:CET
DTSTART:19701025T030000
RRULE:FREQ=YEARLY;INTERVAL=1;BYDAY=-1SU;BYMONTH=10
END:STANDARD
END:VTIMEZONE
BEGIN:VEVENT
UID:e6e8b61d745c95382d7ce316a3a4f99d@gruene-werneck.de
URL;VALUE=URI:https://gruene-werneck.de/termine/die-gruene-bank-fuer-egen
 hausen/
LOCATION:Die GRÜNE Bank, Egenhausen
SUMMARY:Die GRÜNE BANK für Egenhausen
DESCRIPTION;ALTREP="data:text/html,B%C3%BCrgermeisterkandidat%20Johannes%
 20Wei%C3%9F%20%28GR%C3%9CNE%29%20stellt%20sich%20und%20seine%20Ideen%20im
 %20Rahmen%20der%20Vorstellungstour%20%E2%80%9EDie%20Gr%C3%BCne%20Bank%E2%
 80%9C%20in%20allen%2013%20Ortsteilen%20vor.%20Gemeinsam%20mit%20Kandidati
 nnen%20und%20Kandidaten%20der%20Marktgemeinderatsliste%20steht%20Johannes
 %20Wei%C3%9F%20f%C3%BCr%20Fragen%20und%20Anregungen%20bereit.%20Die%20son
 nt%C3%A4glichen%20Veranstaltungen%20finden%20im%20Freien%20neben%20%C3%B6
 ffentlichen%20Sitzb%C3%A4nken%20statt.%20F%C3%BCr%20warme%20Getr%C3%A4nke
 %20ist%20gesorgt%20-%20bitte%20Tassen%20selbst%20mitbringen.%20Herzliche%
 20Einladung%20an%20Alle.%0D%0A%0D%0ATreffpunkt%20Egenhausen%3A%0D%0ASonnt
 ag%2C%2009.%20Februar%2C%2013%20Uhr%2C%20Sitzbank%20bei%20der%20Kirche.":
 Bürgermeisterkandidat Johannes Weiß (GRÜNE) stellt sich und seine Idee
 n im Rahmen der Vorstellungstour „Die Grüne Bank“ in allen 13 Ortste
 ilen vor. Gemeinsam mit Kandidatinnen und Kandidaten der Marktgemeinderat
 sliste steht Johannes Weiß für Fragen und Anregungen bereit. Die sonnt
 äglichen Veranstaltungen finden im Freien neben öffentlichen Sitzbänke
 n statt. Für warme Getränke ist gesorgt - bitte Tassen selbst mitbringe
 n. Herzliche Einladung an Alle.\n\nTreffpunkt Egenhausen:\n\nSonntag\, 09
 . Februar\, 13 Uhr\, Sitzbank bei der Kirche.
CLASS:PUBLIC
DTSTART;TZID=Europe/Berlin:20200209T130000
DTEND;TZID=Europe/Berlin:20200209T143000
DTSTAMP:20260419T174259
END:VEVENT
END:VCALENDAR