BEGIN:VCALENDAR
VERSION:2.0
PRODID:gruene-werneck.de
METHOD:PUBLISH
BEGIN:VTIMEZONE
TZID:Europe/Berlin
X-LIC-LOCATION:Europe/Berlin
BEGIN:DAYLIGHT
TZOFFSETFROM:+0100
TZOFFSETTO:+0200
TZNAME:CEST
DTSTART:19700329T020000
RRULE:FREQ=YEARLY;INTERVAL=1;BYDAY=-1SU;BYMONTH=3
END:DAYLIGHT
BEGIN:STANDARD
TZOFFSETFROM:+0200
TZOFFSETTO:+0100
TZNAME:CET
DTSTART:19701025T030000
RRULE:FREQ=YEARLY;INTERVAL=1;BYDAY=-1SU;BYMONTH=10
END:STANDARD
END:VTIMEZONE
BEGIN:VEVENT
UID:d5ed880193ebe3f4a9404805467b57c4@gruene-werneck.de
URL;VALUE=URI:https://gruene-werneck.de/termine/die-digitale-bank-gruene-
 marktgemeinderatsfraktion-werneck/
LOCATION:Onlineveranstaltung
SUMMARY:Die DIGITALE BANK | GRÜNE Marktgemeinderatsfraktion Werneck
DESCRIPTION;ALTREP="data:text/html,In%20Anlehnung%20an%20die%20GR%C3%9CNE
 %20BANK%20zur%20Kommunalwahl%20laden%20die%20drei%20Marktgemeinder%C3%A4t
 %2Ainnen%20von%20B%C3%9CNDNIS%2090%2FDIE%20GR%C3%9CNEN%2C%20Birgit%20Schm
 itt%2C%20Matthias%20Reimers%20und%20Johannes%20Wei%C3%9F%2C%20die%20B%C3%
 BCrgerinnen%20und%20B%C3%BCrger%20der%20Ortsteile%20Egenhausen%2C%20Eckar
 tshausen%2C%20Rundelshausen%20und%20Schleerieth%20zum%20digitalen%20Austa
 usch%20via%20Videokonferenz%20ein%3A%20Mittwoch%2C%2026.05.2021%2018.30%2
 0-%2020%3A00%20Uhr%20unter%20%3Ca%20class%3D%22moz-txt-link-abbreviated%2
 2%20href%3D%22http%3A%2F%2Fwww.gruene-werneck.de%2Fdigitalebank%22%3Ewww.
 gruene-werneck.de%2Fdigitalebank%3C%2Fa%3E.%20Herzliche%20Einladung%20an%
 20Alle.%20Gespr%C3%A4chsrunden%20f%C3%BCr%20die%20weiteren%20Ortsteile%20
 folgen.":In Anlehnung an die GRÜNE BANK zur Kommunalwahl laden die drei 
 Marktgemeinderät*innen von BÜNDNIS 90/DIE GRÜNEN\, Birgit Schmitt\, Ma
 tthias Reimers und Johannes Weiß\, die Bürgerinnen und Bürger der Orts
 teile Egenhausen\, Eckartshausen\, Rundelshausen und Schleerieth zum digi
 talen Austausch via Videokonferenz ein: Mittwoch\, 26.05.2021 18.30 - 20:
 00 Uhr unter www.gruene-werneck.de/digitalebank. Herzliche Einladung an A
 lle. Gesprächsrunden für die weiteren Ortsteile folgen.
CLASS:PUBLIC
DTSTART;TZID=Europe/Berlin:20210526T183000
DTEND;TZID=Europe/Berlin:20210526T200000
DTSTAMP:20260420T014744
END:VEVENT
END:VCALENDAR