BEGIN:VCALENDAR
VERSION:2.0
PRODID:gruene-werneck.de
METHOD:PUBLISH
BEGIN:VTIMEZONE
TZID:Europe/Berlin
X-LIC-LOCATION:Europe/Berlin
BEGIN:DAYLIGHT
TZOFFSETFROM:+0100
TZOFFSETTO:+0200
TZNAME:CEST
DTSTART:19700329T020000
RRULE:FREQ=YEARLY;INTERVAL=1;BYDAY=-1SU;BYMONTH=3
END:DAYLIGHT
BEGIN:STANDARD
TZOFFSETFROM:+0200
TZOFFSETTO:+0100
TZNAME:CET
DTSTART:19701025T030000
RRULE:FREQ=YEARLY;INTERVAL=1;BYDAY=-1SU;BYMONTH=10
END:STANDARD
END:VTIMEZONE
BEGIN:VEVENT
UID:0df19ad37ab313a7175b827d105abe9f@gruene-werneck.de
URL;VALUE=URI:https://gruene-werneck.de/termine/damit-werneck-sauber-blei
 bt-gemeinsame-muellsammelaktion/
LOCATION:Marktplatz, Werneck
SUMMARY:Damit Werneck sauber bleibt – Gemeinsame Müllsammelaktion
DESCRIPTION;ALTREP="data:text/html,Wir%20befreien%20gemeinsam%20den%20Ort
 steil%20Werneck%20vom%20M%C3%BCll%20in%20Natur%20und%20Umwelt.%0D%0A%0D%0
 AHerzliche%20Einladung%20an%20Alle%20-%20Weitere%20Mithelferinnen%20und%2
 0Helfer%20sind%20gerne%20gesehen%21%0D%0A%0D%0ATreffpunkt%3A%20Samstag%2C
 %2015.%20Februar%2C%2010%3A00%20Uhr%2C%20Marktplatz%20Werneck":Wir befrei
 en gemeinsam den Ortsteil Werneck vom Müll in Natur und Umwelt.\n\nHerzl
 iche Einladung an Alle - Weitere Mithelferinnen und Helfer sind gerne ges
 ehen!\n\nTreffpunkt: Samstag\, 15. Februar\, 10:00 Uhr\, Marktplatz Werne
 ck
CLASS:PUBLIC
DTSTART;TZID=Europe/Berlin:20200215T100000
DTEND;TZID=Europe/Berlin:20200215T160000
DTSTAMP:20260420T234711
END:VEVENT
END:VCALENDAR